BEGIN:VCALENDAR
VERSION:2.0
PRODID:-//MassHire Boston ABCD - ECPv6.15.20//NONSGML v1.0//EN
CALSCALE:GREGORIAN
METHOD:PUBLISH
X-ORIGINAL-URL:https://masshirebostonabcd.com
X-WR-CALDESC:Events for MassHire Boston ABCD
REFRESH-INTERVAL;VALUE=DURATION:PT1H
X-Robots-Tag:noindex
X-PUBLISHED-TTL:PT1H
BEGIN:VTIMEZONE
TZID:America/New_York
BEGIN:DAYLIGHT
TZOFFSETFROM:-0500
TZOFFSETTO:-0400
TZNAME:EDT
DTSTART:20240310T070000
END:DAYLIGHT
BEGIN:STANDARD
TZOFFSETFROM:-0400
TZOFFSETTO:-0500
TZNAME:EST
DTSTART:20241103T060000
END:STANDARD
BEGIN:DAYLIGHT
TZOFFSETFROM:-0500
TZOFFSETTO:-0400
TZNAME:EDT
DTSTART:20250309T070000
END:DAYLIGHT
BEGIN:STANDARD
TZOFFSETFROM:-0400
TZOFFSETTO:-0500
TZNAME:EST
DTSTART:20251102T060000
END:STANDARD
BEGIN:DAYLIGHT
TZOFFSETFROM:-0500
TZOFFSETTO:-0400
TZNAME:EDT
DTSTART:20260308T070000
END:DAYLIGHT
BEGIN:STANDARD
TZOFFSETFROM:-0400
TZOFFSETTO:-0500
TZNAME:EST
DTSTART:20261101T060000
END:STANDARD
END:VTIMEZONE
BEGIN:VEVENT
DTSTART;TZID=America/New_York:20250923T100000
DTEND;TZID=America/New_York:20250923T110000
DTSTAMP:20260421T044955
CREATED:20250902T193833Z
LAST-MODIFIED:20250902T195540Z
UID:27945-1758621600-1758625200@masshirebostonabcd.com
SUMMARY:Green Flag\, Red Flag
DESCRIPTION:Spot the signs of a healthy workplace. This session helps you recognize positive (green flag) and negative (red flag) indicators in job postings\, interviews\, and workplace culture so you can make informed career choices. \nREGISTER HERE.
URL:https://masshirebostonabcd.com/event/green-flag-red-flag-3/
CATEGORIES:Boston Center Event,Webinar,Workshops
ATTACH;FMTTYPE=image/jpeg:https://masshirebostonabcd.com/wp-content/uploads/Green-Flag-Red-Flag-92325.jpg
END:VEVENT
END:VCALENDAR